BEGIN:VCALENDAR
VERSION:2.0
PRODID:-//Perkins County - ECPv6.15.20//NONSGML v1.0//EN
CALSCALE:GREGORIAN
METHOD:PUBLISH
X-WR-CALNAME:Perkins County
X-ORIGINAL-URL:https://perkinscounty.ne.gov
X-WR-CALDESC:Events for Perkins County
REFRESH-INTERVAL;VALUE=DURATION:PT1H
X-Robots-Tag:noindex
X-PUBLISHED-TTL:PT1H
BEGIN:VTIMEZONE
TZID:America/Chicago
BEGIN:DAYLIGHT
TZOFFSETFROM:-0600
TZOFFSETTO:-0500
TZNAME:CDT
DTSTART:20270314T080000
END:DAYLIGHT
BEGIN:STANDARD
TZOFFSETFROM:-0500
TZOFFSETTO:-0600
TZNAME:CST
DTSTART:20271107T070000
END:STANDARD
BEGIN:DAYLIGHT
TZOFFSETFROM:-0600
TZOFFSETTO:-0500
TZNAME:CDT
DTSTART:20280312T080000
END:DAYLIGHT
BEGIN:STANDARD
TZOFFSETFROM:-0500
TZOFFSETTO:-0600
TZNAME:CST
DTSTART:20281105T070000
END:STANDARD
BEGIN:DAYLIGHT
TZOFFSETFROM:-0600
TZOFFSETTO:-0500
TZNAME:CDT
DTSTART:20290311T080000
END:DAYLIGHT
BEGIN:STANDARD
TZOFFSETFROM:-0500
TZOFFSETTO:-0600
TZNAME:CST
DTSTART:20291104T070000
END:STANDARD
END:VTIMEZONE
BEGIN:VEVENT
DTSTART;VALUE=DATE:20280101
DTEND;VALUE=DATE:20280102
DTSTAMP:20260425T104826
CREATED:20240730T161545Z
LAST-MODIFIED:20260302T204141Z
UID:10000309-1830297600-1830383999@perkinscounty.ne.gov
SUMMARY:New Year's Day - Closed
DESCRIPTION:All Offices Closed
URL:https://perkinscounty.ne.gov/event/new-years-day/2028-01-01/
CATEGORIES:Holiday
END:VEVENT
BEGIN:VEVENT
DTSTART;TZID=America/Chicago:20280103T083000
DTEND;TZID=America/Chicago:20280103T083000
DTSTAMP:20260425T104826
CREATED:20240524T141514Z
LAST-MODIFIED:20260318T174625Z
UID:10000405-1830501000-1830501000@perkinscounty.ne.gov
SUMMARY:County Board Meeting
DESCRIPTION:This is a county board meeting. An agenda can be found on the Board Meetings page.
URL:https://perkinscounty.ne.gov/event/county-board-meeting/2028-01-03/
LOCATION:Perkins County Courthouse\, 200 Lincoln Avenue\, Grant\, NE\, 69140\, United States
CATEGORIES:County Board Meeting
END:VEVENT
BEGIN:VEVENT
DTSTART;VALUE=DATE:20280104
DTEND;VALUE=DATE:20280105
DTSTAMP:20260425T104826
CREATED:20260318T174927Z
LAST-MODIFIED:20260318T174927Z
UID:10000614-1830556800-1830643199@perkinscounty.ne.gov
SUMMARY:Driver Examiner
DESCRIPTION:Contact our office for questions at (308) 352-7570 \nCourthouse: 200 Lincoln Ave. Grant\, NE 69140
URL:https://perkinscounty.ne.gov/event/driver-examiner/2028-01-04/
LOCATION:Perkins County Courthouse\, 200 Lincoln Avenue\, Grant\, NE\, 69140\, United States
END:VEVENT
BEGIN:VEVENT
DTSTART;TZID=America/Chicago:20280117T083000
DTEND;TZID=America/Chicago:20280117T083000
DTSTAMP:20260425T104826
CREATED:20260318T174651Z
LAST-MODIFIED:20260318T174651Z
UID:10000527-1831710600-1831710600@perkinscounty.ne.gov
SUMMARY:County Board Meeting
DESCRIPTION:This is a county board meeting. An agenda can be found on the Board Meetings page.
URL:https://perkinscounty.ne.gov/event/county-board-meeting-2/2028-01-17/
LOCATION:Perkins County Courthouse\, 200 Lincoln Avenue\, Grant\, NE\, 69140\, United States
CATEGORIES:County Board Meeting
END:VEVENT
BEGIN:VEVENT
DTSTART;VALUE=DATE:20280118
DTEND;VALUE=DATE:20280119
DTSTAMP:20260425T104826
CREATED:20260318T174927Z
LAST-MODIFIED:20260318T174927Z
UID:10000615-1831766400-1831852799@perkinscounty.ne.gov
SUMMARY:Driver Examiner
DESCRIPTION:Contact our office for questions at (308) 352-7570 \nCourthouse: 200 Lincoln Ave. Grant\, NE 69140
URL:https://perkinscounty.ne.gov/event/driver-examiner/2028-01-18/
LOCATION:Perkins County Courthouse\, 200 Lincoln Avenue\, Grant\, NE\, 69140\, United States
END:VEVENT
BEGIN:VEVENT
DTSTART;VALUE=DATE:20280119
DTEND;VALUE=DATE:20280120
DTSTAMP:20260425T104826
CREATED:20240730T161350Z
LAST-MODIFIED:20260302T204120Z
UID:10000379-1831852800-1831939199@perkinscounty.ne.gov
SUMMARY:Martin Luther King Jr. Day - Closed
DESCRIPTION:All Offices Closed.
URL:https://perkinscounty.ne.gov/event/martin-luther-king-jr-day/2028-01-19/
CATEGORIES:Holiday
END:VEVENT
END:VCALENDAR