BEGIN:VCALENDAR
VERSION:2.0
PRODID:-//Perkins County - ECPv6.15.20//NONSGML v1.0//EN
CALSCALE:GREGORIAN
METHOD:PUBLISH
X-WR-CALNAME:Perkins County
X-ORIGINAL-URL:https://perkinscounty.ne.gov
X-WR-CALDESC:Events for Perkins County
REFRESH-INTERVAL;VALUE=DURATION:PT1H
X-Robots-Tag:noindex
X-PUBLISHED-TTL:PT1H
BEGIN:VTIMEZONE
TZID:America/Chicago
BEGIN:DAYLIGHT
TZOFFSETFROM:-0600
TZOFFSETTO:-0500
TZNAME:CDT
DTSTART:20250309T080000
END:DAYLIGHT
BEGIN:STANDARD
TZOFFSETFROM:-0500
TZOFFSETTO:-0600
TZNAME:CST
DTSTART:20251102T070000
END:STANDARD
BEGIN:DAYLIGHT
TZOFFSETFROM:-0600
TZOFFSETTO:-0500
TZNAME:CDT
DTSTART:20260308T080000
END:DAYLIGHT
BEGIN:STANDARD
TZOFFSETFROM:-0500
TZOFFSETTO:-0600
TZNAME:CST
DTSTART:20261101T070000
END:STANDARD
BEGIN:DAYLIGHT
TZOFFSETFROM:-0600
TZOFFSETTO:-0500
TZNAME:CDT
DTSTART:20270314T080000
END:DAYLIGHT
BEGIN:STANDARD
TZOFFSETFROM:-0500
TZOFFSETTO:-0600
TZNAME:CST
DTSTART:20271107T070000
END:STANDARD
END:VTIMEZONE
BEGIN:VEVENT
DTSTART;TZID=America/Chicago:20261005T083000
DTEND;TZID=America/Chicago:20261005T083000
DTSTAMP:20260423T192751
CREATED:20240524T141514Z
LAST-MODIFIED:20260318T174625Z
UID:10000390-1791189000-1791189000@perkinscounty.ne.gov
SUMMARY:County Board Meeting
DESCRIPTION:This is a county board meeting. An agenda can be found on the Board Meetings page.
URL:https://perkinscounty.ne.gov/event/county-board-meeting/2026-10-05/
LOCATION:Perkins County Courthouse\, 200 Lincoln Avenue\, Grant\, NE\, 69140\, United States
CATEGORIES:County Board Meeting
END:VEVENT
BEGIN:VEVENT
DTSTART;TZID=America/Chicago:20261012T000000
DTEND;TZID=America/Chicago:20261012T235959
DTSTAMP:20260423T192751
CREATED:20240429T211622Z
LAST-MODIFIED:20251028T155420Z
UID:10000285-1791763200-1791849599@perkinscounty.ne.gov
SUMMARY:Columbus Day - Closed
DESCRIPTION:All Offices Closed
URL:https://perkinscounty.ne.gov/event/columbus-day/2026-10-12/
CATEGORIES:Holiday
END:VEVENT
BEGIN:VEVENT
DTSTART;VALUE=DATE:20261013
DTEND;VALUE=DATE:20261014
DTSTAMP:20260423T192751
CREATED:20260318T174927Z
LAST-MODIFIED:20260318T174927Z
UID:10000582-1791849600-1791935999@perkinscounty.ne.gov
SUMMARY:Driver Examiner
DESCRIPTION:Contact our office for questions at (308) 352-7570 \nCourthouse: 200 Lincoln Ave. Grant\, NE 69140
URL:https://perkinscounty.ne.gov/event/driver-examiner/2026-10-13/
LOCATION:Perkins County Courthouse\, 200 Lincoln Avenue\, Grant\, NE\, 69140\, United States
END:VEVENT
BEGIN:VEVENT
DTSTART;TZID=America/Chicago:20261019T083000
DTEND;TZID=America/Chicago:20261019T083000
DTSTAMP:20260423T192751
CREATED:20260318T174651Z
LAST-MODIFIED:20260318T174651Z
UID:10000512-1792398600-1792398600@perkinscounty.ne.gov
SUMMARY:County Board Meeting
DESCRIPTION:This is a county board meeting. An agenda can be found on the Board Meetings page.
URL:https://perkinscounty.ne.gov/event/county-board-meeting-2/2026-10-19/
LOCATION:Perkins County Courthouse\, 200 Lincoln Avenue\, Grant\, NE\, 69140\, United States
CATEGORIES:County Board Meeting
END:VEVENT
BEGIN:VEVENT
DTSTART;VALUE=DATE:20261027
DTEND;VALUE=DATE:20261028
DTSTAMP:20260423T192751
CREATED:20260318T174927Z
LAST-MODIFIED:20260318T174927Z
UID:10000583-1793059200-1793145599@perkinscounty.ne.gov
SUMMARY:Driver Examiner
DESCRIPTION:Contact our office for questions at (308) 352-7570 \nCourthouse: 200 Lincoln Ave. Grant\, NE 69140
URL:https://perkinscounty.ne.gov/event/driver-examiner/2026-10-27/
LOCATION:Perkins County Courthouse\, 200 Lincoln Avenue\, Grant\, NE\, 69140\, United States
END:VEVENT
END:VCALENDAR